BEGIN:VCALENDAR
VERSION:2.0
PRODID:-//eventon.com NONSGML v1.0//EN
CALSCALE:GREGORIAN
METHOD:PUBLISH
BEGIN:VEVENT
UID:69e7366097aff
DTSTAMP:20260421T083336Z
DTSTART:20240220T170000Z
DTEND:20240220T225900Z
LOCATION:
SUMMARY:RG Berlin: Zukunftswerkstatt vor Ort - Workshop zum Projekt X
DESCRIPTION:Die RG Berlin lädt im Rahmen des Projekt X zur Zukunftswerksta
 tt vor Ort. Geboten werden Informationen und Diskussion zur Zukunft des VK.
  Die Veranstaltung ist offen für alle Mitglieder. Weitere Informationen: v
 ia Veranstalter.\nhttps://www.vk-online.de/events/rg-berlin-zukunftswerksta
 tt-vor-ort-workshop-zum-projekt-x/
URL:https://www.vk-online.de/events/rg-berlin-zukunftswerkstatt-vor-ort-workshop-zum-projekt-x/
END:VEVENT
END:VCALENDAR