BEGIN:VCALENDAR
VERSION:2.0
PRODID:-//eventon.com NONSGML v1.0//EN
CALSCALE:GREGORIAN
METHOD:PUBLISH
BEGIN:VEVENT
UID:69e7361c8772a
DTSTAMP:20260421T083228Z
DTSTART:20240306T180000Z
DTEND:20240306T120000Z
LOCATION:
SUMMARY:RG Dortmund: Quo Vadis VK? / Vorstandsdiskussion 2024
DESCRIPTION:Die RG Dortmund lädt ein zur jährlichen Vorstandsdiskussion. 
 Dieses mal im Fokus: Das Projekt X. Hierzu werden sich am heutigen Abend zu
 m Gespräch zusammenfinden: Stellv. Vorsitzender des Vorstands Markus Erlen
 bruch\,  Vorstand für Marketing Markus Wagner\,  Vorstand für Wirtschafts
 verbände und Internationales Matthias Weber. Die Veranstaltung ist offen f
 ür alle Mitglieder. Weitere[..]\nhttps://www.vk-online.de/events/rg-dortmu
 nd-quo-vadis-vk-vorstandsdiskussion-2024/
URL:https://www.vk-online.de/events/rg-dortmund-quo-vadis-vk-vorstandsdiskussion-2024/
END:VEVENT
END:VCALENDAR