BEGIN:VCALENDAR
VERSION:2.0
PRODID:-//eventon.com NONSGML v1.0//EN
CALSCALE:GREGORIAN
METHOD:PUBLISH
BEGIN:VEVENT
UID:69e7361b7b0ad
DTSTAMP:20260421T083227Z
DTSTART:20240514T170000Z
DTEND:20240514T215900Z
LOCATION:
SUMMARY:RG Münster-Osnabrück: Monatliches Treffen
DESCRIPTION:Die Regionalgruppe Münster-Osnabrück lädt zum Erfahrungsaust
 ausch und Networking. Die Veranstaltung ist offen für alle Mitglieder. Wei
 tere Informationen via: siehe Veranstalter.\nhttps://www.vk-online.de/event
 s/rg-muenster-osnabrueck-monatliches-treffen-8/
URL:https://www.vk-online.de/events/rg-muenster-osnabrueck-monatliches-treffen-8/
END:VEVENT
END:VCALENDAR