BEGIN:VCALENDAR
VERSION:2.0
PRODID:-//eventon.com NONSGML v1.0//EN
CALSCALE:GREGORIAN
METHOD:PUBLISH
BEGIN:VEVENT
UID:69e738584c170
DTSTAMP:20260421T084200Z
DTSTART:20240515T170000Z
DTEND:20240515T215900Z
LOCATION:
SUMMARY:RG Dortmund: "Was macht eigentlich ..."
DESCRIPTION:&#8222;Was macht eigentlich ein Enterprisearchitekt?&#8220; Bei
 m heutigen Treffen erhalten die Teilnehmer Einblick in die Tätigkeit eines
  IT-Architekten. Die Veranstaltung ist offen für alle Mitglieder. Weitere 
 Informationen via: siehe Veranstalter.\nhttps://www.vk-online.de/events/rg-
 dortmund-was-macht-eigentlich-2/
URL:https://www.vk-online.de/events/rg-dortmund-was-macht-eigentlich-2/
END:VEVENT
END:VCALENDAR