BEGIN:VCALENDAR
VERSION:2.0
PRODID:-//eventon.com NONSGML v1.0//EN
CALSCALE:GREGORIAN
METHOD:PUBLISH
BEGIN:VEVENT
UID:69e7385aa2892
DTSTAMP:20260421T084202Z
DTSTART:20240516T180000Z
DTEND:20240516T215900Z
LOCATION:
SUMMARY:RG Bremen: Jour Fixe
DESCRIPTION:Die Regionalgruppe Bremen lädt zum Erfahrungsaustausch und Net
 working. &nbsp; Die Veranstaltung ist offen für alle Mitglieder. Weitere I
 nformationen via: siehe Veranstalter.\nhttps://www.vk-online.de/events/rg-b
 remen-jour-fixe-17/
URL:https://www.vk-online.de/events/rg-bremen-jour-fixe-17/
END:VEVENT
END:VCALENDAR