BEGIN:VCALENDAR
VERSION:2.0
PRODID:-//eventon.com NONSGML v1.0//EN
CALSCALE:GREGORIAN
METHOD:PUBLISH
BEGIN:VEVENT
UID:69e738b028a78
DTSTAMP:20260421T084328Z
DTSTART:20240525T130000Z
DTEND:20240525T140000Z
LOCATION:
SUMMARY:RG Hamburg/Bremen/Oldenburg/Hannover: Stuatus Projekt X
DESCRIPTION:Der Projektleiter und Vorstand Ingo Hahn gibt den aktuellen Sac
 hstand zum Projekt an und diskutiert anschließend. Die Veranstaltung ist o
 ffen für alle Mitglieder. &nbsp; Weitere Informationen via: die jeweiligen
  RGs\nhttps://www.vk-online.de/events/rg-hamburg-bremen-oldenburg-hannover-
 stuatus-projekt-x/
URL:https://www.vk-online.de/events/rg-hamburg-bremen-oldenburg-hannover-stuatus-projekt-x/
END:VEVENT
END:VCALENDAR