BEGIN:VCALENDAR
VERSION:2.0
PRODID:-//eventon.com NONSGML v1.0//EN
CALSCALE:GREGORIAN
METHOD:PUBLISH
BEGIN:VEVENT
UID:69ed905c8b71e
DTSTAMP:20260426T041108Z
DTSTART:20240802T173000Z
DTEND:20240802T215900Z
LOCATION:
SUMMARY:RG Hamburg: Stammtisch
DESCRIPTION:Die Regionalgruppe Hamburg lädt zu einem Informationsaustausch
  und Networking ein. &nbsp; Die Veranstaltung ist offen für alle Mitgliede
 r. Weitere Information: Siehe Veranstalter.\nhttps://www.vk-online.de/event
 s/rg-hamburg-stammtisch-14/
URL:https://www.vk-online.de/events/rg-hamburg-stammtisch-14/
END:VEVENT
END:VCALENDAR