BEGIN:VCALENDAR
VERSION:2.0
PRODID:-//eventon.com NONSGML v1.0//EN
CALSCALE:GREGORIAN
METHOD:PUBLISH
BEGIN:VEVENT
UID:69ed779ed2322
DTSTAMP:20260426T022534Z
DTSTART:20240802T170000Z
DTEND:20240802T215900Z
LOCATION:Bremen
SUMMARY:RG Bremen: Monatsmeeting
DESCRIPTION:Die Regionalgruppe Bremen lädt zu einem Vortrag mit Abendessen
  ein. &nbsp; Die Veranstaltung ist offen für alle Mitglieder. Weitere Info
 rmation: Siehe Veranstalter.\nhttps://www.vk-online.de/events/rg-bremen-mon
 atsmeeting-15/
URL:https://www.vk-online.de/events/rg-bremen-monatsmeeting-15/
END:VEVENT
END:VCALENDAR