BEGIN:VCALENDAR
VERSION:2.0
PRODID:-//eventon.com NONSGML v1.0//EN
CALSCALE:GREGORIAN
METHOD:PUBLISH
BEGIN:VEVENT
UID:69ed4567b9574
DTSTAMP:20260425T225119Z
DTSTART:20240804T090000Z
DTEND:20240804T080000Z
LOCATION:Berlin
SUMMARY:RG Berlin: Brunch
DESCRIPTION:Die Regionalgruppe Berlin lädt zu einem Informationsaustausch 
 und Networking ein. &nbsp; Die Veranstaltung ist offen für alle Mitglieder
 . Weitere Information: Siehe Veranstalter.\nhttps://www.vk-online.de/events
 /rg-berlin-brunch-3/
URL:https://www.vk-online.de/events/rg-berlin-brunch-3/
END:VEVENT
END:VCALENDAR