BEGIN:VCALENDAR
VERSION:2.0
PRODID:-//eventon.com NONSGML v1.0//EN
CALSCALE:GREGORIAN
METHOD:PUBLISH
BEGIN:VEVENT
UID:69ed2c4e305d6
DTSTAMP:20260425T210414Z
DTSTART:20240807T090000Z
DTEND:20240811T090000Z
LOCATION:Straßburg
SUMMARY:RG Dortmund: Jahresfahrt
DESCRIPTION:Die Regionalgruppe Dortmund lädt zu einer Jahresfahrt mit folg
 ender Information: „Reines\,  églises\,  cardinaux et grande histoire! A
 uf den Spuren von Marie Antoinette\,  Koenig Ludwig I von Bayern und des Ka
 rdinals Richelieu…“ / Teilnehmerplätze vergeben &nbsp; Die Veranstaltu
 ng ist nur für Dortmunder Mitglieder und Freunde. Weitere Information: Sie
 he Veranstalter.\nhttps://www.vk-online.de/events/rg-dortmund-jahresfahrt/
URL:https://www.vk-online.de/events/rg-dortmund-jahresfahrt/
END:VEVENT
END:VCALENDAR