BEGIN:VCALENDAR
VERSION:2.0
PRODID:-//eventon.com NONSGML v1.0//EN
CALSCALE:GREGORIAN
METHOD:PUBLISH
BEGIN:VEVENT
UID:69ed14994a5ed
DTSTAMP:20260425T192305Z
DTSTART:20240806T173000Z
DTEND:20240806T215900Z
LOCATION:Köln
SUMMARY:RG Köln/Bonn: Jour Fixe
DESCRIPTION:Die Regionalgruppe Köln/Bonn lädt zu einem Informationsaustau
 sch und Networking ein. &nbsp; Die Veranstaltung ist offen für alle Mitgli
 eder. Weitere Information: Siehe Veranstalter.\nhttps://www.vk-online.de/ev
 ents/rg-koeln-bonn-jour-fixe-20/
URL:https://www.vk-online.de/events/rg-koeln-bonn-jour-fixe-20/
END:VEVENT
END:VCALENDAR