BEGIN:VCALENDAR
VERSION:2.0
PRODID:-//eventon.com NONSGML v1.0//EN
CALSCALE:GREGORIAN
METHOD:PUBLISH
BEGIN:VEVENT
UID:69ecd1b91d585
DTSTAMP:20260425T143745Z
DTSTART:20240810T090000Z
DTEND:20240810T090000Z
LOCATION:
SUMMARY:RG Hannover: CSD
DESCRIPTION:CSD Braunschweig &nbsp; Die Veranstaltung ist offen für alle M
 itglieder. Weitere Information: Siehe Veranstalter.\nhttps://www.vk-online.
 de/events/rg-hannover-csd-3/
URL:https://www.vk-online.de/events/rg-hannover-csd-3/
END:VEVENT
END:VCALENDAR