BEGIN:VCALENDAR
VERSION:2.0
PRODID:-//eventon.com NONSGML v1.0//EN
CALSCALE:GREGORIAN
METHOD:PUBLISH
BEGIN:VEVENT
UID:69ecb650154a7
DTSTAMP:20260425T124048Z
DTSTART:20240813T170000Z
DTEND:20240813T215900Z
LOCATION:Münster / Osnabrück
SUMMARY:RG Münster/Osnabrück: monatliches Treffen
DESCRIPTION:Die Regionalgruppe Münster/Osnabrück lädt zu einem Informati
 onsaustausch und Networking ein. &nbsp; Die Veranstaltung ist offen für al
 le Mitglieder. Weitere Information: Siehe Veranstalter.\nhttps://www.vk-onl
 ine.de/events/rg-muenster-osnabrueck-monatliches-treffen-11/
URL:https://www.vk-online.de/events/rg-muenster-osnabrueck-monatliches-treffen-11/
END:VEVENT
END:VCALENDAR