BEGIN:VCALENDAR
VERSION:2.0
PRODID:-//eventon.com NONSGML v1.0//EN
CALSCALE:GREGORIAN
METHOD:PUBLISH
BEGIN:VEVENT
UID:69ec9f0bd3de0
DTSTAMP:20260425T110131Z
DTSTART:20240813T170000Z
DTEND:20240813T215900Z
LOCATION:Berlin
SUMMARY:RG Berlin: Jour Fixe
DESCRIPTION:Die Regionalgruppe Berlin lädt zum Jour Fixe Berlins ein. &nbs
 p; Die Veranstaltung ist offen für alle Mitglieder. Weitere Information: S
 iehe Veranstalter.\nhttps://www.vk-online.de/events/rg-berlin-jour-fixe-17/
URL:https://www.vk-online.de/events/rg-berlin-jour-fixe-17/
END:VEVENT
END:VCALENDAR