BEGIN:VCALENDAR
VERSION:2.0
PRODID:-//eventon.com NONSGML v1.0//EN
CALSCALE:GREGORIAN
METHOD:PUBLISH
BEGIN:VEVENT
UID:69ec35a2c9057
DTSTAMP:20260425T033146Z
DTSTART:20240821T180000Z
DTEND:20240821T215900Z
LOCATION:Düsseldorf
SUMMARY:RG Düsseldorf: Stammtisch
DESCRIPTION:Die Regionalgruppe Düsseldorf lädt zu einem Networking und Er
 fahrungsaustausch ein. &nbsp; Die Veranstaltung ist offen für alle Mitglie
 der. Weitere Information: Siehe Veranstalter.\nhttps://www.vk-online.de/eve
 nts/rg-duesseldorf-stammtisch-19/
URL:https://www.vk-online.de/events/rg-duesseldorf-stammtisch-19/
END:VEVENT
END:VCALENDAR