BEGIN:VCALENDAR
VERSION:2.0
PRODID:-//eventon.com NONSGML v1.0//EN
CALSCALE:GREGORIAN
METHOD:PUBLISH
BEGIN:VEVENT
UID:69ebec110be68
DTSTAMP:20260424T221753Z
DTSTART:20240826T170000Z
DTEND:20240826T215900Z
LOCATION:Berlin
SUMMARY:RG Berlin: Grüner Salon
DESCRIPTION:Die Regionalgruppe Berlin lädt zu  dem Grünen Salon ein. &nb
 sp; Die Veranstaltung ist offen für alle Mitglieder. Weitere Information: 
 Siehe Veranstalter.\nhttps://www.vk-online.de/events/rg-berlin-gruener-salo
 n-13/
URL:https://www.vk-online.de/events/rg-berlin-gruener-salon-13/
END:VEVENT
END:VCALENDAR