BEGIN:VCALENDAR
VERSION:2.0
PRODID:-//eventon.com NONSGML v1.0//EN
CALSCALE:GREGORIAN
METHOD:PUBLISH
BEGIN:VEVENT
UID:69ebd2f3ac986
DTSTAMP:20260424T203043Z
DTSTART:20240828T170000Z
DTEND:20240828T215900Z
LOCATION:München
SUMMARY:RG München: Barabend
DESCRIPTION:Die Regionalgruppe München lädt zu einem zwanglosen Networkin
 gtreffen in einer Bar ein. &nbsp; Die Veranstaltung ist offen für alle Mit
 glieder. Weitere Information: Siehe Veranstalter.\nhttps://www.vk-online.de
 /events/rg-muenchen-barabend-6/
URL:https://www.vk-online.de/events/rg-muenchen-barabend-6/
END:VEVENT
END:VCALENDAR