BEGIN:VCALENDAR
VERSION:2.0
PRODID:-//eventon.com NONSGML v1.0//EN
CALSCALE:GREGORIAN
METHOD:PUBLISH
BEGIN:VEVENT
UID:69eba5bf76b06
DTSTAMP:20260424T171751Z
DTSTART:20240621T173000Z
DTEND:20240621T215900Z
LOCATION:
SUMMARY:RG Freiburg: Präsentation
DESCRIPTION:Die Regionalgruppe Freiburg lädt zu einem einer Präsentation 
 zu dem Thema: &#8222;Ziel Zukunft &#8211; Vom Jetzt zur Ewigkeit&#8220; ein
 . Die Veranstaltung ist offen für alle Mitglieder. Weitere Information: Si
 ehe Veranstalter.\nhttps://www.vk-online.de/events/rg-freiburg-praesentatio
 n/
URL:https://www.vk-online.de/events/rg-freiburg-praesentation/
END:VEVENT
END:VCALENDAR