BEGIN:VCALENDAR
VERSION:2.0
PRODID:-//eventon.com NONSGML v1.0//EN
CALSCALE:GREGORIAN
METHOD:PUBLISH
BEGIN:VEVENT
UID:69eb8d9194347
DTSTAMP:20260424T153441Z
DTSTART:20240624T170000Z
DTEND:20240624T215900Z
LOCATION:
SUMMARY:RG Berlin: Grüner Salon
DESCRIPTION:Die Regionalgruppe Berlin lädt zu dem Grünen Salon mit dem Th
 ema &#8222;Europa\,  Europa &#8211; wo kommen wir her und wo gehen wir hin?
  Eine Geschichte mit ungewissem Ausgang&#8220; ein. Die Veranstaltung ist o
 ffen für alle Mitglieder. Weitere Information: Siehe Veranstalter.\nhttps:
 //www.vk-online.de/events/rg-berlin-gruener-salon-14/
URL:https://www.vk-online.de/events/rg-berlin-gruener-salon-14/
END:VEVENT
END:VCALENDAR