BEGIN:VCALENDAR
VERSION:2.0
PRODID:-//eventon.com NONSGML v1.0//EN
CALSCALE:GREGORIAN
METHOD:PUBLISH
BEGIN:VEVENT
UID:69eb59c329f48
DTSTAMP:20260424T115339Z
DTSTART:20240629T110000Z
DTEND:20240629T215900Z
LOCATION:
SUMMARY:RG Bremen: RG & Friends
DESCRIPTION:Die Regionalgruppe Bremen lädt zu einem zwanglosen Networking
 treffen ein. Die Veranstaltung ist offen für alle Mitglieder. Weitere Info
 rmation: Siehe Veranstalter.\nhttps://www.vk-online.de/events/rg-bremen-rg-
 friends-68/
URL:https://www.vk-online.de/events/rg-bremen-rg-friends-68/
END:VEVENT
END:VCALENDAR