BEGIN:VCALENDAR
VERSION:2.0
PRODID:-//eventon.com NONSGML v1.0//EN
CALSCALE:GREGORIAN
METHOD:PUBLISH
BEGIN:VEVENT
UID:69eb455d4505b
DTSTAMP:20260424T102637Z
DTSTART:20240629T143000Z
DTEND:20240629T215900Z
LOCATION:
SUMMARY:RG Köln-Bonn: Project-X Roadshow
DESCRIPTION:Die Regionalgruppe Köln Bonn lädt zu einer Roadshow ein. Ing
 o Hahn gibt einen Überblick über den aktuellen Stand des Project-X. Im An
 schluss soll über den aktuellen Stand diskutiert werden\,  sowie neue Idee
 n und Meinungen gesammelt werden\,  welche an den Vorstand weitergegeben we
 rden. Die Veranstaltung ist offen für alle Mitglieder. Weitere Information
 :[..]\nhttps://www.vk-online.de/events/rg-koeln-bonn-project-x-roadshow/
URL:https://www.vk-online.de/events/rg-koeln-bonn-project-x-roadshow/
END:VEVENT
END:VCALENDAR