BEGIN:VCALENDAR
VERSION:2.0
PRODID:-//eventon.com NONSGML v1.0//EN
CALSCALE:GREGORIAN
METHOD:PUBLISH
BEGIN:VEVENT
UID:69eb2d0161c9a
DTSTAMP:20260424T084241Z
DTSTART:20240704T173000Z
DTEND:20240704T215900Z
LOCATION:
SUMMARY:RG Rhein-Neckar: Stammtisch
DESCRIPTION:Die Regionalgruppe Rhein-Neckar lädt zu einem Networking und E
 rfahrungsaustausch ein. Die Veranstaltung ist offen für alle Mitglieder. W
 eitere Information: Siehe Veranstalter.\nhttps://www.vk-online.de/events/rg
 -rhein-neckar-stammtisch-19/
URL:https://www.vk-online.de/events/rg-rhein-neckar-stammtisch-19/
END:VEVENT
END:VCALENDAR