BEGIN:VCALENDAR
VERSION:2.0
PRODID:-//eventon.com NONSGML v1.0//EN
CALSCALE:GREGORIAN
METHOD:PUBLISH
BEGIN:VEVENT
UID:69e905a817e32
DTSTAMP:20260422T173016Z
DTSTART:20240705T170000Z
DTEND:20240705T215900Z
LOCATION:
SUMMARY:RG Bremen: Monatsmeeting
DESCRIPTION:Die Regionalgruppe Bremen lädt zu einem Vortrag mit Abendessen
  ein. Die Veranstaltung ist offen für alle Mitglieder. Weitere Information
 : Siehe Veranstalter.\nhttps://www.vk-online.de/events/rg-bremen-monatsmeet
 ing-16/
URL:https://www.vk-online.de/events/rg-bremen-monatsmeeting-16/
END:VEVENT
END:VCALENDAR