BEGIN:VCALENDAR
VERSION:2.0
PRODID:-//eventon.com NONSGML v1.0//EN
CALSCALE:GREGORIAN
METHOD:PUBLISH
BEGIN:VEVENT
UID:69e8ef7c53af2
DTSTAMP:20260422T155540Z
DTSTART:20240720T090000Z
DTEND:20240721T090000Z
LOCATION:
SUMMARY:RG Berlin: schwul-lesbisches Straßenfest
DESCRIPTION:Die Regionalgruppe Berlin lädt zu einem schwul-lesbischen Stra
 ßenfest ein. Es werden des Weiteren noch freiwillige für den Standdienst 
 gesucht! Die Veranstaltung ist offen für alle Mitglieder. Weitere Informat
 ion: Siehe Veranstalter.\nhttps://www.vk-online.de/events/rg-berlin-schwul-
 lesbisches-strassenfest/
URL:https://www.vk-online.de/events/rg-berlin-schwul-lesbisches-strassenfest/
END:VEVENT
END:VCALENDAR