BEGIN:VCALENDAR
VERSION:2.0
PRODID:-//eventon.com NONSGML v1.0//EN
CALSCALE:GREGORIAN
METHOD:PUBLISH
BEGIN:VEVENT
UID:69e5d72f5d247
DTSTAMP:20260420T073511Z
DTSTART:20240708T170000Z
DTEND:20240708T215900Z
LOCATION:
SUMMARY:RG Nürnberg: Monatsmeeting
DESCRIPTION:Die Regionalgruppe Nürnberg lädt zu einem Monatsmeeting ein. 
 Die Veranstaltung ist offen für alle Mitglieder. Weitere Information: Sieh
 e Veranstalter.\nhttps://www.vk-online.de/events/rg-nuernberg-monatsmeeting
 -15/
URL:https://www.vk-online.de/events/rg-nuernberg-monatsmeeting-15/
END:VEVENT
END:VCALENDAR