BEGIN:VCALENDAR
VERSION:2.0
PRODID:-//eventon.com NONSGML v1.0//EN
CALSCALE:GREGORIAN
METHOD:PUBLISH
BEGIN:VEVENT
UID:69e5bd5e615ad
DTSTAMP:20260420T054502Z
DTSTART:20240901T090000Z
DTEND:20240901T215900Z
LOCATION:
SUMMARY:RG Berlin: Brunch
DESCRIPTION:Die Regionalgruppe Berlin lädt zu einem Networking und Informa
 tionsaustausch ein. Die Veranstaltung ist offen für alle Mitglieder. Weite
 re Information: Siehe Veranstalter.\nhttps://www.vk-online.de/events/rg-ber
 lin-brunch-4/
URL:https://www.vk-online.de/events/rg-berlin-brunch-4/
END:VEVENT
END:VCALENDAR