BEGIN:VCALENDAR
VERSION:2.0
PRODID:-//eventon.com NONSGML v1.0//EN
CALSCALE:GREGORIAN
METHOD:PUBLISH
BEGIN:VEVENT
UID:69eb2caae95c4
DTSTAMP:20260424T084114Z
DTSTART:20240903T173000Z
DTEND:20240903T215900Z
LOCATION:
SUMMARY:RG Köln-Bonn: Jour Fixe
DESCRIPTION:Die Regionalgruppe Köln-Bonn lädt zu einem Networking und In
 formationsaustausch ein. Die Veranstaltung ist offen für alle Mitglieder. 
 Weitere Information: Siehe Veranstalter.\nhttps://www.vk-online.de/events/r
 g-koeln-bonn-jour-fixe-21/
URL:https://www.vk-online.de/events/rg-koeln-bonn-jour-fixe-21/
END:VEVENT
END:VCALENDAR