BEGIN:VCALENDAR
VERSION:2.0
PRODID:-//eventon.com NONSGML v1.0//EN
CALSCALE:GREGORIAN
METHOD:PUBLISH
BEGIN:VEVENT
UID:69e582aba42fd
DTSTAMP:20260420T013435Z
DTSTART:20240904T170000Z
DTEND:20240904T215900Z
LOCATION:
SUMMARY:RG Dortmund: Vortrag
DESCRIPTION:Die Regionalgruppe Dortmund lädt zu einem Vortrag von Rolf Sc
 hreiter mit dem Thema &#8222;&#8218;Was macht eigentlich ein UNternehmensve
 rater im Mittelstand?&#8216;: Herausforderungen vom KMU im Rahmen von KI un
 d Fachkräftemangel&#8220; ein. Die Veranstaltung ist offen für alle Mitgl
 ieder. Weitere Information: Siehe Veranstalter.\nhttps://www.vk-online.de/e
 vents/rg-dortmund-vortrag/
URL:https://www.vk-online.de/events/rg-dortmund-vortrag/
END:VEVENT
END:VCALENDAR