BEGIN:VCALENDAR
VERSION:2.0
PRODID:-//eventon.com NONSGML v1.0//EN
CALSCALE:GREGORIAN
METHOD:PUBLISH
BEGIN:VEVENT
UID:69e56952570e2
DTSTAMP:20260419T234626Z
DTSTART:20240905T170000Z
DTEND:20240905T215900Z
LOCATION:
SUMMARY:RG Düsseldorf: Stammtisch
DESCRIPTION:Die Regionalgruppe Düsseldorf lädt zu einem Networking und I
 nformationsaustausch ein. Die Veranstaltung ist offen für alle Mitglieder.
  Weitere Information: Siehe Veranstalter.\nhttps://www.vk-online.de/events/
 rg-duesseldorf-stammtisch-20/
URL:https://www.vk-online.de/events/rg-duesseldorf-stammtisch-20/
END:VEVENT
END:VCALENDAR