BEGIN:VCALENDAR
VERSION:2.0
PRODID:-//eventon.com NONSGML v1.0//EN
CALSCALE:GREGORIAN
METHOD:PUBLISH
BEGIN:VEVENT
UID:69e5522ea7a30
DTSTAMP:20260419T220742Z
DTSTART:20240905T173000Z
DTEND:20240905T215900Z
LOCATION:
SUMMARY:RG Rhein-Neckar: Stammtisch
DESCRIPTION:Die Regionalgruppe Rhein-Neckar lädt zu einem Networking und 
 Informationsaustausch ein. Die Veranstaltung ist offen für alle Mitglieder
 . Weitere Information: Siehe Veranstalter.\nhttps://www.vk-online.de/events
 /rg-rhein-neckar-stammtisch-21/
URL:https://www.vk-online.de/events/rg-rhein-neckar-stammtisch-21/
END:VEVENT
END:VCALENDAR