BEGIN:VCALENDAR
VERSION:2.0
PRODID:-//eventon.com NONSGML v1.0//EN
CALSCALE:GREGORIAN
METHOD:PUBLISH
BEGIN:VEVENT
UID:69e538534141f
DTSTAMP:20260419T201723Z
DTSTART:20240906T173000Z
DTEND:20240906T215900Z
LOCATION:
SUMMARY:RG Hamburg: Stammtisch
DESCRIPTION:Die Regionalgruppe Hamburg lädt zu einem Networking und Infor
 mationsaustausch ein. Die Veranstaltung ist offen für alle Mitglieder. Wei
 tere Information: Siehe Veranstalter.\nhttps://www.vk-online.de/events/rg-h
 amburg-stammtisch-15/
URL:https://www.vk-online.de/events/rg-hamburg-stammtisch-15/
END:VEVENT
END:VCALENDAR