BEGIN:VCALENDAR
VERSION:2.0
PRODID:-//eventon.com NONSGML v1.0//EN
CALSCALE:GREGORIAN
METHOD:PUBLISH
BEGIN:VEVENT
UID:69e51feb61c5c
DTSTAMP:20260419T183315Z
DTSTART:20240906T170000Z
DTEND:20240906T215900Z
LOCATION:
SUMMARY:RG Bremen: Monatsmeeting
DESCRIPTION:Die Regionalgruppe Bremen lädt zu einem Vortrag mit Abendesse
 n ein. Die Veranstaltung ist offen für alle Mitglieder. Weitere Informatio
 n: Siehe Veranstalter.\nhttps://www.vk-online.de/events/rg-bremen-monatsmee
 ting-17/
URL:https://www.vk-online.de/events/rg-bremen-monatsmeeting-17/
END:VEVENT
END:VCALENDAR