BEGIN:VCALENDAR
VERSION:2.0
PRODID:-//eventon.com NONSGML v1.0//EN
CALSCALE:GREGORIAN
METHOD:PUBLISH
BEGIN:VEVENT
UID:69e50597394ce
DTSTAMP:20260419T164055Z
DTSTART:20240907T110000Z
DTEND:20240907T215900Z
LOCATION:
SUMMARY:RG Bremen: RG & Friends
DESCRIPTION:Die Regionalgruppe Bremen lädt zu einem zwanglosen Networking
 treffen ein. Die Veranstaltung ist offen für alle Mitglieder. Weitere Info
 rmation: Siehe Veranstalter.\nhttps://www.vk-online.de/events/rg-bremen-rg-
 friends-69/
URL:https://www.vk-online.de/events/rg-bremen-rg-friends-69/
END:VEVENT
END:VCALENDAR