BEGIN:VCALENDAR
VERSION:2.0
PRODID:-//eventon.com NONSGML v1.0//EN
CALSCALE:GREGORIAN
METHOD:PUBLISH
BEGIN:VEVENT
UID:69e4d86eb17f2
DTSTAMP:20260419T132814Z
DTSTART:20240913T090000Z
DTEND:20240915T090000Z
LOCATION:
SUMMARY:FG Kommunikation: Präsenztagung
DESCRIPTION:Die Fachgruppe Kommunikation lädt zu einer Tagung zu dem Them
 a ein. Die Veranstaltung ist offen für alle Mitglieder. Weitere Informatio
 n: Siehe Veranstalter.\nhttps://www.vk-online.de/events/fg-kommunikation-pr
 aesenztagung-2/
URL:https://www.vk-online.de/events/fg-kommunikation-praesenztagung-2/
END:VEVENT
END:VCALENDAR