BEGIN:VCALENDAR
VERSION:2.0
PRODID:-//eventon.com NONSGML v1.0//EN
CALSCALE:GREGORIAN
METHOD:PUBLISH
BEGIN:VEVENT
UID:69e74b4f50870
DTSTAMP:20260421T100255Z
DTSTART:20240914T110000Z
DTEND:20240914T215900Z
LOCATION:
SUMMARY:RG Bremen: RG & Friends
DESCRIPTION:Die Regionalgruppe Bremen lädt zu einem zwanglosen Networking
  ein. Die Veranstaltung ist offen für alle Mitglieder. Weitere Information
 : Siehe Veranstalter.\nhttps://www.vk-online.de/events/rg-bremen-rg-friends
 -70/
URL:https://www.vk-online.de/events/rg-bremen-rg-friends-70/
END:VEVENT
END:VCALENDAR