BEGIN:VCALENDAR
VERSION:2.0
PRODID:-//eventon.com NONSGML v1.0//EN
CALSCALE:GREGORIAN
METHOD:PUBLISH
BEGIN:VEVENT
UID:69e7c54c00a73
DTSTAMP:20260421T184324Z
DTSTART:20240919T180000Z
DTEND:20240919T215900Z
LOCATION:
SUMMARY:RG Bremen: Jour Fixe
DESCRIPTION:Die Regionalgruppe Bremen lädt zu einem Networking mit Abende
 ssen ein. Die Veranstaltung ist offen für alle Mitglieder. Weitere Informa
 tion: Siehe Veranstalter.\nhttps://www.vk-online.de/events/rg-bremen-jour-f
 ixe-21/
URL:https://www.vk-online.de/events/rg-bremen-jour-fixe-21/
END:VEVENT
END:VCALENDAR