BEGIN:VCALENDAR
VERSION:2.0
PRODID:-//eventon.com NONSGML v1.0//EN
CALSCALE:GREGORIAN
METHOD:PUBLISH
BEGIN:VEVENT
UID:69e7dd46dfaac
DTSTAMP:20260421T202542Z
DTSTART:20240920T173000Z
DTEND:20240920T215900Z
LOCATION:
SUMMARY:RG Köln-Bonn: VK kulinarisch
DESCRIPTION:Die Regionalgruppe Köln-Bonn lädt zu einem Networking und In
 formationsaustausch bei guten Essen ein. Die Veranstaltung ist offen für a
 lle Mitglieder. Weitere Information: Siehe Veranstalter.\nhttps://www.vk-on
 line.de/events/rg-koeln-bonn-vk-kulinarisch-13/
URL:https://www.vk-online.de/events/rg-koeln-bonn-vk-kulinarisch-13/
END:VEVENT
END:VCALENDAR