BEGIN:VCALENDAR
VERSION:2.0
PRODID:-//eventon.com NONSGML v1.0//EN
CALSCALE:GREGORIAN
METHOD:PUBLISH
BEGIN:VEVENT
UID:69e7f62b0ab15
DTSTAMP:20260421T221155Z
DTSTART:20240920T100000Z
DTEND:20240922T100000Z
LOCATION:
SUMMARY:FG Kleine Unternehmen: FG-Treffen
DESCRIPTION:Die Fachgruppe Kleine Unternehmen lädt zu einem Treffen ein\,
   in dem finanzielle Grundlagen (Kennzahlen\,  BWA\,  Steuern\,  etc.) Grun
 dlagen der Krediterwerbung und Austausch thematisiert werden. Die Veranstal
 tung ist offen für alle Mitglieder. Weitere Information: Siehe Veranstalte
 r.\nhttps://www.vk-online.de/events/fg-kleine-unternehmen-fg-treffen/
URL:https://www.vk-online.de/events/fg-kleine-unternehmen-fg-treffen/
END:VEVENT
END:VCALENDAR