BEGIN:VCALENDAR
VERSION:2.0
PRODID:-//eventon.com NONSGML v1.0//EN
CALSCALE:GREGORIAN
METHOD:PUBLISH
BEGIN:VEVENT
UID:69e80d14c59e3
DTSTAMP:20260421T234940Z
DTSTART:20240920T100000Z
DTEND:20240922T100000Z
LOCATION:
SUMMARY:FG Bauwesen: FG-Treffen
DESCRIPTION:Die Fachgruppe Bauwesen lädt zu einem Besuch der EZB ein\,  b
 ei dem Fachvorträge gehalten werden. Die Veranstaltung ist offen für alle
  Mitglieder. Weitere Information: Siehe Veranstalter.\nhttps://www.vk-onlin
 e.de/events/fg-bauwesen-fg-treffen/
URL:https://www.vk-online.de/events/fg-bauwesen-fg-treffen/
END:VEVENT
END:VCALENDAR