BEGIN:VCALENDAR
VERSION:2.0
PRODID:-//eventon.com NONSGML v1.0//EN
CALSCALE:GREGORIAN
METHOD:PUBLISH
BEGIN:VEVENT
UID:69e82393962ba
DTSTAMP:20260422T012539Z
DTSTART:20240921T110000Z
DTEND:20240921T215900Z
LOCATION:
SUMMARY:RG Bremen: RG & Friends
DESCRIPTION:Die Regionalgruppe Bremen lädt zu einem zwanglosen Networking
  ein. Die Veranstaltung ist offen für alle Mitglieder. Weitere Information
 : Siehe Veranstalter.\nhttps://www.vk-online.de/events/rg-bremen-rg-friends
 -71/
URL:https://www.vk-online.de/events/rg-bremen-rg-friends-71/
END:VEVENT
END:VCALENDAR