BEGIN:VCALENDAR
VERSION:2.0
PRODID:-//eventon.com NONSGML v1.0//EN
CALSCALE:GREGORIAN
METHOD:PUBLISH
BEGIN:VEVENT
UID:69e86aee52602
DTSTAMP:20260422T063006Z
DTSTART:20240930T170000Z
DTEND:20240930T215900Z
LOCATION:
SUMMARY:RG Berlin: Grüner Salon
DESCRIPTION:Die Regionalgruppe Berlin lädt zum grünen Salon ein mit folge
 nden Thema &#8222;Fahrerlose Regionalzüge in Deutschland: Ziele\,  Herausf
 orderungen\,  Testbetrieb&#8220;. Die Veranstaltung ist offen für alle Mit
 glieder. Weitere Information: Siehe Veranstalter.\nhttps://www.vk-online.de
 /events/rg-berlin-gruener-salon-15/
URL:https://www.vk-online.de/events/rg-berlin-gruener-salon-15/
END:VEVENT
END:VCALENDAR