BEGIN:VCALENDAR
VERSION:2.0
PRODID:-//eventon.com NONSGML v1.0//EN
CALSCALE:GREGORIAN
METHOD:PUBLISH
BEGIN:VEVENT
UID:69e882d32108e
DTSTAMP:20260422T081203Z
DTSTART:20240725T163000Z
DTEND:20240725T120000Z
LOCATION:
SUMMARY:RG Berlin: Sommerfest
DESCRIPTION:Die Regionalgruppe Berlin lädt zum Networking und Erfahrungsau
 stausch ein. Die Veranstaltung ist offen für alle Mitglieder. Weitere Info
 rmation: Siehe Veranstalter.\nhttps://www.vk-online.de/events/rg-berlin-som
 merfest/
URL:https://www.vk-online.de/events/rg-berlin-sommerfest/
END:VEVENT
END:VCALENDAR