BEGIN:VCALENDAR
VERSION:2.0
PRODID:-//eventon.com NONSGML v1.0//EN
CALSCALE:GREGORIAN
METHOD:PUBLISH
BEGIN:VEVENT
UID:69e897cfa2d2f
DTSTAMP:20260422T094135Z
DTSTART:20240806T173000Z
DTEND:20240806T215900Z
LOCATION:
SUMMARY:RG Rhein-Neckar: Stammtisch
DESCRIPTION:Die Regionalgruppe Rhein-Neckar lädt zum Networking und Erfahr
 ungsaustausch ein. Die Veranstaltung ist offen für alle Mitglieder. Weiter
 e Information: Siehe Veranstalter.\nhttps://www.vk-online.de/events/rg-rhei
 n-neckar-stammtisch-22/
URL:https://www.vk-online.de/events/rg-rhein-neckar-stammtisch-22/
END:VEVENT
END:VCALENDAR