BEGIN:VCALENDAR
VERSION:2.0
PRODID:-//eventon.com NONSGML v1.0//EN
CALSCALE:GREGORIAN
METHOD:PUBLISH
BEGIN:VEVENT
UID:69e8af13b6c11
DTSTAMP:20260422T112051Z
DTSTART:20240808T170000Z
DTEND:20240808T215900Z
LOCATION:
SUMMARY:RG Nürnberg: Monatsmeeting
DESCRIPTION:Die Regionalgruppe Nürnberg lädt zum Monatstreffen der RG Nü
 rnberg ein. Die Veranstaltung ist offen für alle Mitglieder. Weitere Infor
 mation: Siehe Veranstalter.\nhttps://www.vk-online.de/events/rg-nuernberg-m
 onatsmeeting-17/
URL:https://www.vk-online.de/events/rg-nuernberg-monatsmeeting-17/
END:VEVENT
END:VCALENDAR