BEGIN:VCALENDAR
VERSION:2.0
PRODID:-//eventon.com NONSGML v1.0//EN
CALSCALE:GREGORIAN
METHOD:PUBLISH
BEGIN:VEVENT
UID:69e8c5de3fd86
DTSTAMP:20260422T125806Z
DTSTART:20240821T160000Z
DTEND:20240821T215900Z
LOCATION:
SUMMARY:RG Rhein-Neckar. Queeres Business Netzwerk (QBN)
DESCRIPTION:Die Regionalgruppe Rhein-Neckar lädt zu einem Treffen ein\,  
 in dem verschiedene Firmenvertreter\,  Institutionen und Organisationen zum
  Austausch mit dem VK sich auffinden werden. Die Veranstaltung ist auch onl
 ine zugänglich. Die Veranstaltung ist offen für alle Mitglieder. Weitere 
 Information: Siehe Veranstalter.\nhttps://www.vk-online.de/events/rg-rhein-
 neckar-queeres-business-netzwerk-qbn-5/
URL:https://www.vk-online.de/events/rg-rhein-neckar-queeres-business-netzwerk-qbn-5/
END:VEVENT
END:VCALENDAR