BEGIN:VCALENDAR
VERSION:2.0
PRODID:-//eventon.com NONSGML v1.0//EN
CALSCALE:GREGORIAN
METHOD:PUBLISH
BEGIN:VEVENT
UID:69e8dce18ee32
DTSTAMP:20260422T143617Z
DTSTART:20241001T173000Z
DTEND:20241001T215900Z
LOCATION:
SUMMARY:RG Köln-Bonn: Jour Fixe
DESCRIPTION:Die Regionalgruppe Köln-Bonn lädt zu einem Networking und In
 formationsaustausch ein. Die Veranstaltung ist offen für alle Mitglieder. 
 Weitere Information: Siehe Veranstalter.\nhttps://www.vk-online.de/events/r
 g-koeln-bonn-jour-fixe-22/
URL:https://www.vk-online.de/events/rg-koeln-bonn-jour-fixe-22/
END:VEVENT
END:VCALENDAR