BEGIN:VCALENDAR
VERSION:2.0
PRODID:-//eventon.com NONSGML v1.0//EN
CALSCALE:GREGORIAN
METHOD:PUBLISH
BEGIN:VEVENT
UID:69e8f44f8be62
DTSTAMP:20260422T161615Z
DTSTART:20241001T173000Z
DTEND:20241001T215900Z
LOCATION:
SUMMARY:RG Rhein-Neckar: Jour Fixe
DESCRIPTION:Die Regionalgruppe Rhein-Neckar lädt zu einem Networking und 
 Informationsaustausch ein. Die Veranstaltung ist offen für alle Mitglieder
 . Weitere Information: Siehe Veranstalter.\nhttps://www.vk-online.de/events
 /rg-rhein-neckar-stammtisch-23/
URL:https://www.vk-online.de/events/rg-rhein-neckar-stammtisch-23/
END:VEVENT
END:VCALENDAR