BEGIN:VCALENDAR
VERSION:2.0
PRODID:-//eventon.com NONSGML v1.0//EN
CALSCALE:GREGORIAN
METHOD:PUBLISH
BEGIN:VEVENT
UID:69e9084781349
DTSTAMP:20260422T174127Z
DTSTART:20241003T170000Z
DTEND:20241003T215900Z
LOCATION:
SUMMARY:RG Düsseldorf: Stammtisch
DESCRIPTION:Die Regionalgruppe Düsseldorf lädt zu einem Networking und I
 nformationsaustausch ein. Die Veranstaltung ist offen für alle Mitglieder.
  Weitere Information: Siehe Veranstalter.\nhttps://www.vk-online.de/events/
 rg-duesseldorf-stammtisch-22/
URL:https://www.vk-online.de/events/rg-duesseldorf-stammtisch-22/
END:VEVENT
END:VCALENDAR