BEGIN:VCALENDAR
VERSION:2.0
PRODID:-//eventon.com NONSGML v1.0//EN
CALSCALE:GREGORIAN
METHOD:PUBLISH
BEGIN:VEVENT
UID:69eb4462461ac
DTSTAMP:20260424T102226Z
DTSTART:20241005T110000Z
DTEND:20241005T215900Z
LOCATION:
SUMMARY:RG Bremen: RG & Friends
DESCRIPTION:Die Regionalgruppe Bremen lädt zu einem zwanglosen Networking
  ein. Die Veranstaltung ist offen für alle Mitglieder. Weitere Information
 : Siehe Veranstalter.\nhttps://www.vk-online.de/events/rg-bremen-rg-friends
 -73/
URL:https://www.vk-online.de/events/rg-bremen-rg-friends-73/
END:VEVENT
END:VCALENDAR