BEGIN:VCALENDAR
VERSION:2.0
PRODID:-//eventon.com NONSGML v1.0//EN
CALSCALE:GREGORIAN
METHOD:PUBLISH
BEGIN:VEVENT
UID:69eb5aa6ced92
DTSTAMP:20260424T115726Z
DTSTART:20241006T090000Z
DTEND:20241006T215900Z
LOCATION:
SUMMARY:RG Berlin: Brunch
DESCRIPTION:Die Regionalgruppe Berlin lädt zu einem Networking und Inform
 ationsaustausch ein. Die Veranstaltung ist offen für alle Mitglieder. Weit
 ere Information: Siehe Veranstalter.\nhttps://www.vk-online.de/events/rg-be
 rlin-brunch-5/
URL:https://www.vk-online.de/events/rg-berlin-brunch-5/
END:VEVENT
END:VCALENDAR